BEGIN:VCALENDAR
PRODID:-//eluceo/ical//2.0/EN
VERSION:2.0
CALSCALE:GREGORIAN
BEGIN:VEVENT
UID:7ca37977b1eea67e8b939d1cbd214a0a
DTSTAMP:20260424T095241Z
SUMMARY:message vidéo du président Emmanuel Marjary : actualités novembr
 e et décembre 2022
DESCRIPTION:
URL:https://bordeaux.rotary-1690.org/fr/agenda/show/33132
DTSTART;TZID=Europe/Zurich:20221109T120000
DTEND;TZID=Europe/Zurich:20221216T170000
LOCATION:x
CATEGORIES:Rotary
END:VEVENT
BEGIN:VTIMEZONE
TZID:Europe/Zurich
BEGIN:STANDARD
DTSTART:20221109T120000
TZNAME:CET
TZOFFSETTO:+0100
TZOFFSETFROM:+0100
END:STANDARD
END:VTIMEZONE
END:VCALENDAR
